OziExplorer Map Data File Version 2.2
ALMURTA
379.ozf2
1 ,Map Code,
Australian Geocentric 1994 (GDA94),, 0.0000, 0.0000,WGS 84
Reserved 1
Reserved 2
Magnetic Variation,,,E
Map Projection,(VICGRID) Victoria Australia,PolyCal,No,AutoCalOnly,No,BSBUseWPX,No
Point01,xy, 0, 0,in, deg, , ,S, , ,E, grid, , 2540000, 4368000,S
Point02,xy, 4800, 4800,in, deg, , ,S, , ,E, grid, , 2570000, 4338000,S
Point03,xy, , ,in, deg, , ,S, , ,E, grid, , , ,S
Point04,xy, , ,in, deg, , ,S, , ,E, grid, , , ,S
Point05,xy, , ,in, deg, , ,S, , ,E, grid, , , ,S
Point06,xy, , ,in, deg, , ,S, , ,E, grid, , , ,S
Point07,xy, , ,in, deg, , ,S, , ,E, grid, , , ,S
Point08,xy, , ,in, deg, , ,S, , ,E, grid, , , ,S
Point09,xy, , ,in, deg, , ,S, , ,E, grid, , , ,S
Point10,xy, , ,in, deg, , ,, , ,, grid, , , ,
Point11,xy, , ,in, deg, , ,, , ,, grid, , , ,
Point12,xy, , ,in, deg, , ,, , ,, grid, , , ,
Point13,xy, , ,in, deg, , ,, , ,, grid, , , ,
Point14,xy, , ,in, deg, , ,, , ,, grid, , , ,
Point15,xy, , ,in, deg, , ,, , ,, grid, , , ,
Point16,xy, , ,in, deg, , ,, , ,, grid, , , ,
Point17,xy, , ,in, deg, , ,, , ,, grid, , , ,
Point18,xy, , ,in, deg, , ,, , ,, grid, , , ,
Point19,xy, , ,in, deg, , ,, , ,, grid, , , ,
Point20,xy, , ,in, deg, , ,, , ,, grid, , , ,
Point21,xy, , ,in, deg, , ,, , ,, grid, , , ,
Point22,xy, , ,in, deg, , ,, , ,, grid, , , ,
Point23,xy, , ,in, deg, , ,, , ,, grid, , , ,
Point24,xy, , ,in, deg, , ,, , ,, grid, , , ,
Point25,xy, , ,in, deg, , ,, , ,, grid, , , ,
Point26,xy, , ,in, deg, , ,, , ,, grid, , , ,
Point27,xy, , ,in, deg, , ,, , ,, grid, , , ,
Point28,xy, , ,in, deg, , ,, , ,, grid, , , ,
Point29,xy, , ,in, deg, , ,, , ,, grid, , , ,
Point30,xy, , ,in, deg, , ,, , ,, grid, , , ,
Projection Setup,,,,,,,,,,
Map Feature = MF ; Map Comment = MC These follow if they exist
Track File = TF These follow if they exist
Moving Map Parameters = MM? These follow if they exist
MM0,Yes
MMPNUM,4
MMPXY,1,0,0
MMPXY,2,4800,0
MMPXY,3,4800,4800
MMPXY,4,0,4800
MMPLL,1, 145.457, -38.1885
MMPLL,2, 145.799, -38.1868
MMPLL,3, 145.802, -38.457
MMPLL,4, 145.458, -38.4588
MM1B,6.246911
MOP,Map Open Position,0,0
IWH,Map Image Width/Height,4800,4800
